BEGIN:VCALENDAR
VERSION:2.0
PRODID:-//Visit Costa d&#039;Argento - ECPv6.1.3//NONSGML v1.0//EN
CALSCALE:GREGORIAN
METHOD:PUBLISH
X-WR-CALNAME:Visit Costa d&#039;Argento
X-ORIGINAL-URL:https://visitcostadargento.it
X-WR-CALDESC:Eventi per Visit Costa d&#039;Argento
REFRESH-INTERVAL;VALUE=DURATION:PT1H
X-Robots-Tag:noindex
X-PUBLISHED-TTL:PT1H
BEGIN:VTIMEZONE
TZID:Europe/Helsinki
BEGIN:DAYLIGHT
TZOFFSETFROM:+0200
TZOFFSETTO:+0300
TZNAME:EEST
DTSTART:20230326T010000
END:DAYLIGHT
BEGIN:STANDARD
TZOFFSETFROM:+0300
TZOFFSETTO:+0200
TZNAME:EET
DTSTART:20231029T010000
END:STANDARD
END:VTIMEZONE
BEGIN:VEVENT
DTSTART;TZID=Europe/Helsinki:20231128T163000
DTEND;TZID=Europe/Helsinki:20231128T170000
DTSTAMP:20260420T021639
CREATED:20230814T100953Z
LAST-MODIFIED:20230814T100953Z
UID:10000134-1701189000-1701190800@visitcostadargento.it
SUMMARY:Tutto Giglio On Air
DESCRIPTION:Rappresentazione teatrale di 30 minuti circa sul Giglio\, è richiesto un contributo di 6€ per la partecipazione. \nL’evento si svolgerà presso la torre del Saraceno a Giglio Porto. \nPer prenotazioni chiamare al numero 3209605713 \nlocandina
URL:https://visitcostadargento.it/evento/tutto-giglio-on-air-2/2023-11-28/
LOCATION:Torre del Saraceno\, Via del saraceno\, Giglio Porto\, 58012\, Italia
CATEGORIES:Eventi
ATTACH;FMTTYPE=image/jpeg:https://visitcostadargento.it/wp-content/uploads/2023/08/DSC00426.jpg
ORGANIZER;CN="Proloco%20isola%20del%20Giglio%20e%20Giannutri":MAILTO:info@visitgiglioisland.com
END:VEVENT
BEGIN:VEVENT
DTSTART;TZID=Europe/Helsinki:20231123T163000
DTEND;TZID=Europe/Helsinki:20231123T170000
DTSTAMP:20260420T021639
CREATED:20230814T100953Z
LAST-MODIFIED:20230814T100953Z
UID:10000133-1700757000-1700758800@visitcostadargento.it
SUMMARY:Tutto Giglio On Air
DESCRIPTION:Rappresentazione teatrale di 30 minuti circa sul Giglio\, è richiesto un contributo di 6€ per la partecipazione. \nL’evento si svolgerà presso la torre del Saraceno a Giglio Porto. \nPer prenotazioni chiamare al numero 3209605713 \nlocandina
URL:https://visitcostadargento.it/evento/tutto-giglio-on-air-2/2023-11-23/
LOCATION:Torre del Saraceno\, Via del saraceno\, Giglio Porto\, 58012\, Italia
CATEGORIES:Eventi
ATTACH;FMTTYPE=image/jpeg:https://visitcostadargento.it/wp-content/uploads/2023/08/DSC00426.jpg
ORGANIZER;CN="Proloco%20isola%20del%20Giglio%20e%20Giannutri":MAILTO:info@visitgiglioisland.com
END:VEVENT
BEGIN:VEVENT
DTSTART;TZID=Europe/Helsinki:20231122T163000
DTEND;TZID=Europe/Helsinki:20231122T170000
DTSTAMP:20260420T021639
CREATED:20230814T100953Z
LAST-MODIFIED:20230814T100953Z
UID:10000132-1700670600-1700672400@visitcostadargento.it
SUMMARY:Tutto Giglio On Air
DESCRIPTION:Rappresentazione teatrale di 30 minuti circa sul Giglio\, è richiesto un contributo di 6€ per la partecipazione. \nL’evento si svolgerà presso la torre del Saraceno a Giglio Porto. \nPer prenotazioni chiamare al numero 3209605713 \nlocandina
URL:https://visitcostadargento.it/evento/tutto-giglio-on-air-2/2023-11-22/
LOCATION:Torre del Saraceno\, Via del saraceno\, Giglio Porto\, 58012\, Italia
CATEGORIES:Eventi
ATTACH;FMTTYPE=image/jpeg:https://visitcostadargento.it/wp-content/uploads/2023/08/DSC00426.jpg
ORGANIZER;CN="Proloco%20isola%20del%20Giglio%20e%20Giannutri":MAILTO:info@visitgiglioisland.com
END:VEVENT
BEGIN:VEVENT
DTSTART;TZID=Europe/Helsinki:20231121T163000
DTEND;TZID=Europe/Helsinki:20231121T170000
DTSTAMP:20260420T021639
CREATED:20230814T100953Z
LAST-MODIFIED:20230814T100953Z
UID:10000131-1700584200-1700586000@visitcostadargento.it
SUMMARY:Tutto Giglio On Air
DESCRIPTION:Rappresentazione teatrale di 30 minuti circa sul Giglio\, è richiesto un contributo di 6€ per la partecipazione. \nL’evento si svolgerà presso la torre del Saraceno a Giglio Porto. \nPer prenotazioni chiamare al numero 3209605713 \nlocandina
URL:https://visitcostadargento.it/evento/tutto-giglio-on-air-2/2023-11-21/
LOCATION:Torre del Saraceno\, Via del saraceno\, Giglio Porto\, 58012\, Italia
CATEGORIES:Eventi
ATTACH;FMTTYPE=image/jpeg:https://visitcostadargento.it/wp-content/uploads/2023/08/DSC00426.jpg
ORGANIZER;CN="Proloco%20isola%20del%20Giglio%20e%20Giannutri":MAILTO:info@visitgiglioisland.com
END:VEVENT
BEGIN:VEVENT
DTSTART;TZID=Europe/Helsinki:20231116T163000
DTEND;TZID=Europe/Helsinki:20231116T170000
DTSTAMP:20260420T021639
CREATED:20230814T100953Z
LAST-MODIFIED:20230814T100953Z
UID:10000130-1700152200-1700154000@visitcostadargento.it
SUMMARY:Tutto Giglio On Air
DESCRIPTION:Rappresentazione teatrale di 30 minuti circa sul Giglio\, è richiesto un contributo di 6€ per la partecipazione. \nL’evento si svolgerà presso la torre del Saraceno a Giglio Porto. \nPer prenotazioni chiamare al numero 3209605713 \nlocandina
URL:https://visitcostadargento.it/evento/tutto-giglio-on-air-2/2023-11-16/
LOCATION:Torre del Saraceno\, Via del saraceno\, Giglio Porto\, 58012\, Italia
CATEGORIES:Eventi
ATTACH;FMTTYPE=image/jpeg:https://visitcostadargento.it/wp-content/uploads/2023/08/DSC00426.jpg
ORGANIZER;CN="Proloco%20isola%20del%20Giglio%20e%20Giannutri":MAILTO:info@visitgiglioisland.com
END:VEVENT
BEGIN:VEVENT
DTSTART;TZID=Europe/Helsinki:20231115T163000
DTEND;TZID=Europe/Helsinki:20231115T170000
DTSTAMP:20260420T021639
CREATED:20230814T100953Z
LAST-MODIFIED:20230814T100953Z
UID:10000129-1700065800-1700067600@visitcostadargento.it
SUMMARY:Tutto Giglio On Air
DESCRIPTION:Rappresentazione teatrale di 30 minuti circa sul Giglio\, è richiesto un contributo di 6€ per la partecipazione. \nL’evento si svolgerà presso la torre del Saraceno a Giglio Porto. \nPer prenotazioni chiamare al numero 3209605713 \nlocandina
URL:https://visitcostadargento.it/evento/tutto-giglio-on-air-2/2023-11-15/
LOCATION:Torre del Saraceno\, Via del saraceno\, Giglio Porto\, 58012\, Italia
CATEGORIES:Eventi
ATTACH;FMTTYPE=image/jpeg:https://visitcostadargento.it/wp-content/uploads/2023/08/DSC00426.jpg
ORGANIZER;CN="Proloco%20isola%20del%20Giglio%20e%20Giannutri":MAILTO:info@visitgiglioisland.com
END:VEVENT
BEGIN:VEVENT
DTSTART;TZID=Europe/Helsinki:20231114T163000
DTEND;TZID=Europe/Helsinki:20231114T170000
DTSTAMP:20260420T021639
CREATED:20230814T100953Z
LAST-MODIFIED:20230814T100953Z
UID:10000128-1699979400-1699981200@visitcostadargento.it
SUMMARY:Tutto Giglio On Air
DESCRIPTION:Rappresentazione teatrale di 30 minuti circa sul Giglio\, è richiesto un contributo di 6€ per la partecipazione. \nL’evento si svolgerà presso la torre del Saraceno a Giglio Porto. \nPer prenotazioni chiamare al numero 3209605713 \nlocandina
URL:https://visitcostadargento.it/evento/tutto-giglio-on-air-2/2023-11-14/
LOCATION:Torre del Saraceno\, Via del saraceno\, Giglio Porto\, 58012\, Italia
CATEGORIES:Eventi
ATTACH;FMTTYPE=image/jpeg:https://visitcostadargento.it/wp-content/uploads/2023/08/DSC00426.jpg
ORGANIZER;CN="Proloco%20isola%20del%20Giglio%20e%20Giannutri":MAILTO:info@visitgiglioisland.com
END:VEVENT
BEGIN:VEVENT
DTSTART;TZID=Europe/Helsinki:20231109T163000
DTEND;TZID=Europe/Helsinki:20231109T170000
DTSTAMP:20260420T021639
CREATED:20230814T100953Z
LAST-MODIFIED:20230814T100953Z
UID:10000127-1699547400-1699549200@visitcostadargento.it
SUMMARY:Tutto Giglio On Air
DESCRIPTION:Rappresentazione teatrale di 30 minuti circa sul Giglio\, è richiesto un contributo di 6€ per la partecipazione. \nL’evento si svolgerà presso la torre del Saraceno a Giglio Porto. \nPer prenotazioni chiamare al numero 3209605713 \nlocandina
URL:https://visitcostadargento.it/evento/tutto-giglio-on-air-2/2023-11-09/
LOCATION:Torre del Saraceno\, Via del saraceno\, Giglio Porto\, 58012\, Italia
CATEGORIES:Eventi
ATTACH;FMTTYPE=image/jpeg:https://visitcostadargento.it/wp-content/uploads/2023/08/DSC00426.jpg
ORGANIZER;CN="Proloco%20isola%20del%20Giglio%20e%20Giannutri":MAILTO:info@visitgiglioisland.com
END:VEVENT
BEGIN:VEVENT
DTSTART;TZID=Europe/Helsinki:20231108T163000
DTEND;TZID=Europe/Helsinki:20231108T170000
DTSTAMP:20260420T021639
CREATED:20230814T100953Z
LAST-MODIFIED:20230814T100953Z
UID:10000126-1699461000-1699462800@visitcostadargento.it
SUMMARY:Tutto Giglio On Air
DESCRIPTION:Rappresentazione teatrale di 30 minuti circa sul Giglio\, è richiesto un contributo di 6€ per la partecipazione. \nL’evento si svolgerà presso la torre del Saraceno a Giglio Porto. \nPer prenotazioni chiamare al numero 3209605713 \nlocandina
URL:https://visitcostadargento.it/evento/tutto-giglio-on-air-2/2023-11-08/
LOCATION:Torre del Saraceno\, Via del saraceno\, Giglio Porto\, 58012\, Italia
CATEGORIES:Eventi
ATTACH;FMTTYPE=image/jpeg:https://visitcostadargento.it/wp-content/uploads/2023/08/DSC00426.jpg
ORGANIZER;CN="Proloco%20isola%20del%20Giglio%20e%20Giannutri":MAILTO:info@visitgiglioisland.com
END:VEVENT
BEGIN:VEVENT
DTSTART;TZID=Europe/Helsinki:20231107T163000
DTEND;TZID=Europe/Helsinki:20231107T170000
DTSTAMP:20260420T021639
CREATED:20230814T100953Z
LAST-MODIFIED:20230814T100953Z
UID:10000125-1699374600-1699376400@visitcostadargento.it
SUMMARY:Tutto Giglio On Air
DESCRIPTION:Rappresentazione teatrale di 30 minuti circa sul Giglio\, è richiesto un contributo di 6€ per la partecipazione. \nL’evento si svolgerà presso la torre del Saraceno a Giglio Porto. \nPer prenotazioni chiamare al numero 3209605713 \nlocandina
URL:https://visitcostadargento.it/evento/tutto-giglio-on-air-2/2023-11-07/
LOCATION:Torre del Saraceno\, Via del saraceno\, Giglio Porto\, 58012\, Italia
CATEGORIES:Eventi
ATTACH;FMTTYPE=image/jpeg:https://visitcostadargento.it/wp-content/uploads/2023/08/DSC00426.jpg
ORGANIZER;CN="Proloco%20isola%20del%20Giglio%20e%20Giannutri":MAILTO:info@visitgiglioisland.com
END:VEVENT
BEGIN:VEVENT
DTSTART;TZID=Europe/Helsinki:20231102T163000
DTEND;TZID=Europe/Helsinki:20231102T170000
DTSTAMP:20260420T021639
CREATED:20230814T100953Z
LAST-MODIFIED:20230814T100953Z
UID:10000124-1698942600-1698944400@visitcostadargento.it
SUMMARY:Tutto Giglio On Air
DESCRIPTION:Rappresentazione teatrale di 30 minuti circa sul Giglio\, è richiesto un contributo di 6€ per la partecipazione. \nL’evento si svolgerà presso la torre del Saraceno a Giglio Porto. \nPer prenotazioni chiamare al numero 3209605713 \nlocandina
URL:https://visitcostadargento.it/evento/tutto-giglio-on-air-2/2023-11-02/
LOCATION:Torre del Saraceno\, Via del saraceno\, Giglio Porto\, 58012\, Italia
CATEGORIES:Eventi
ATTACH;FMTTYPE=image/jpeg:https://visitcostadargento.it/wp-content/uploads/2023/08/DSC00426.jpg
ORGANIZER;CN="Proloco%20isola%20del%20Giglio%20e%20Giannutri":MAILTO:info@visitgiglioisland.com
END:VEVENT
BEGIN:VEVENT
DTSTART;TZID=Europe/Helsinki:20231101T163000
DTEND;TZID=Europe/Helsinki:20231101T170000
DTSTAMP:20260420T021639
CREATED:20230814T100953Z
LAST-MODIFIED:20230814T100953Z
UID:10000123-1698856200-1698858000@visitcostadargento.it
SUMMARY:Tutto Giglio On Air
DESCRIPTION:Rappresentazione teatrale di 30 minuti circa sul Giglio\, è richiesto un contributo di 6€ per la partecipazione. \nL’evento si svolgerà presso la torre del Saraceno a Giglio Porto. \nPer prenotazioni chiamare al numero 3209605713 \nlocandina
URL:https://visitcostadargento.it/evento/tutto-giglio-on-air-2/2023-11-01/
LOCATION:Torre del Saraceno\, Via del saraceno\, Giglio Porto\, 58012\, Italia
CATEGORIES:Eventi
ATTACH;FMTTYPE=image/jpeg:https://visitcostadargento.it/wp-content/uploads/2023/08/DSC00426.jpg
ORGANIZER;CN="Proloco%20isola%20del%20Giglio%20e%20Giannutri":MAILTO:info@visitgiglioisland.com
END:VEVENT
BEGIN:VEVENT
DTSTART;TZID=Europe/Helsinki:20231031T163000
DTEND;TZID=Europe/Helsinki:20231031T170000
DTSTAMP:20260420T021639
CREATED:20230814T100953Z
LAST-MODIFIED:20230814T100953Z
UID:10000122-1698769800-1698771600@visitcostadargento.it
SUMMARY:Tutto Giglio On Air
DESCRIPTION:Rappresentazione teatrale di 30 minuti circa sul Giglio\, è richiesto un contributo di 6€ per la partecipazione. \nL’evento si svolgerà presso la torre del Saraceno a Giglio Porto. \nPer prenotazioni chiamare al numero 3209605713 \nlocandina
URL:https://visitcostadargento.it/evento/tutto-giglio-on-air-2/2023-10-31/
LOCATION:Torre del Saraceno\, Via del saraceno\, Giglio Porto\, 58012\, Italia
CATEGORIES:Eventi
ATTACH;FMTTYPE=image/jpeg:https://visitcostadargento.it/wp-content/uploads/2023/08/DSC00426.jpg
ORGANIZER;CN="Proloco%20isola%20del%20Giglio%20e%20Giannutri":MAILTO:info@visitgiglioisland.com
END:VEVENT
BEGIN:VEVENT
DTSTART;TZID=Europe/Helsinki:20231026T163000
DTEND;TZID=Europe/Helsinki:20231026T170000
DTSTAMP:20260420T021639
CREATED:20230814T100953Z
LAST-MODIFIED:20230814T100953Z
UID:10000121-1698337800-1698339600@visitcostadargento.it
SUMMARY:Tutto Giglio On Air
DESCRIPTION:Rappresentazione teatrale di 30 minuti circa sul Giglio\, è richiesto un contributo di 6€ per la partecipazione. \nL’evento si svolgerà presso la torre del Saraceno a Giglio Porto. \nPer prenotazioni chiamare al numero 3209605713 \nlocandina
URL:https://visitcostadargento.it/evento/tutto-giglio-on-air-2/2023-10-26/
LOCATION:Torre del Saraceno\, Via del saraceno\, Giglio Porto\, 58012\, Italia
CATEGORIES:Eventi
ATTACH;FMTTYPE=image/jpeg:https://visitcostadargento.it/wp-content/uploads/2023/08/DSC00426.jpg
ORGANIZER;CN="Proloco%20isola%20del%20Giglio%20e%20Giannutri":MAILTO:info@visitgiglioisland.com
END:VEVENT
BEGIN:VEVENT
DTSTART;TZID=Europe/Helsinki:20231025T163000
DTEND;TZID=Europe/Helsinki:20231025T170000
DTSTAMP:20260420T021639
CREATED:20230814T100953Z
LAST-MODIFIED:20230814T100953Z
UID:10000120-1698251400-1698253200@visitcostadargento.it
SUMMARY:Tutto Giglio On Air
DESCRIPTION:Rappresentazione teatrale di 30 minuti circa sul Giglio\, è richiesto un contributo di 6€ per la partecipazione. \nL’evento si svolgerà presso la torre del Saraceno a Giglio Porto. \nPer prenotazioni chiamare al numero 3209605713 \nlocandina
URL:https://visitcostadargento.it/evento/tutto-giglio-on-air-2/2023-10-25/
LOCATION:Torre del Saraceno\, Via del saraceno\, Giglio Porto\, 58012\, Italia
CATEGORIES:Eventi
ATTACH;FMTTYPE=image/jpeg:https://visitcostadargento.it/wp-content/uploads/2023/08/DSC00426.jpg
ORGANIZER;CN="Proloco%20isola%20del%20Giglio%20e%20Giannutri":MAILTO:info@visitgiglioisland.com
END:VEVENT
BEGIN:VEVENT
DTSTART;TZID=Europe/Helsinki:20231024T163000
DTEND;TZID=Europe/Helsinki:20231024T170000
DTSTAMP:20260420T021639
CREATED:20230814T100953Z
LAST-MODIFIED:20230814T100953Z
UID:10000119-1698165000-1698166800@visitcostadargento.it
SUMMARY:Tutto Giglio On Air
DESCRIPTION:Rappresentazione teatrale di 30 minuti circa sul Giglio\, è richiesto un contributo di 6€ per la partecipazione. \nL’evento si svolgerà presso la torre del Saraceno a Giglio Porto. \nPer prenotazioni chiamare al numero 3209605713 \nlocandina
URL:https://visitcostadargento.it/evento/tutto-giglio-on-air-2/2023-10-24/
LOCATION:Torre del Saraceno\, Via del saraceno\, Giglio Porto\, 58012\, Italia
CATEGORIES:Eventi
ATTACH;FMTTYPE=image/jpeg:https://visitcostadargento.it/wp-content/uploads/2023/08/DSC00426.jpg
ORGANIZER;CN="Proloco%20isola%20del%20Giglio%20e%20Giannutri":MAILTO:info@visitgiglioisland.com
END:VEVENT
BEGIN:VEVENT
DTSTART;TZID=Europe/Helsinki:20231019T163000
DTEND;TZID=Europe/Helsinki:20231019T170000
DTSTAMP:20260420T021639
CREATED:20230814T100953Z
LAST-MODIFIED:20230814T100953Z
UID:10000118-1697733000-1697734800@visitcostadargento.it
SUMMARY:Tutto Giglio On Air
DESCRIPTION:Rappresentazione teatrale di 30 minuti circa sul Giglio\, è richiesto un contributo di 6€ per la partecipazione. \nL’evento si svolgerà presso la torre del Saraceno a Giglio Porto. \nPer prenotazioni chiamare al numero 3209605713 \nlocandina
URL:https://visitcostadargento.it/evento/tutto-giglio-on-air-2/2023-10-19/
LOCATION:Torre del Saraceno\, Via del saraceno\, Giglio Porto\, 58012\, Italia
CATEGORIES:Eventi
ATTACH;FMTTYPE=image/jpeg:https://visitcostadargento.it/wp-content/uploads/2023/08/DSC00426.jpg
ORGANIZER;CN="Proloco%20isola%20del%20Giglio%20e%20Giannutri":MAILTO:info@visitgiglioisland.com
END:VEVENT
BEGIN:VEVENT
DTSTART;TZID=Europe/Helsinki:20231018T163000
DTEND;TZID=Europe/Helsinki:20231018T170000
DTSTAMP:20260420T021640
CREATED:20230814T100953Z
LAST-MODIFIED:20230814T100953Z
UID:10000117-1697646600-1697648400@visitcostadargento.it
SUMMARY:Tutto Giglio On Air
DESCRIPTION:Rappresentazione teatrale di 30 minuti circa sul Giglio\, è richiesto un contributo di 6€ per la partecipazione. \nL’evento si svolgerà presso la torre del Saraceno a Giglio Porto. \nPer prenotazioni chiamare al numero 3209605713 \nlocandina
URL:https://visitcostadargento.it/evento/tutto-giglio-on-air-2/2023-10-18/
LOCATION:Torre del Saraceno\, Via del saraceno\, Giglio Porto\, 58012\, Italia
CATEGORIES:Eventi
ATTACH;FMTTYPE=image/jpeg:https://visitcostadargento.it/wp-content/uploads/2023/08/DSC00426.jpg
ORGANIZER;CN="Proloco%20isola%20del%20Giglio%20e%20Giannutri":MAILTO:info@visitgiglioisland.com
END:VEVENT
BEGIN:VEVENT
DTSTART;TZID=Europe/Helsinki:20231017T163000
DTEND;TZID=Europe/Helsinki:20231017T170000
DTSTAMP:20260420T021640
CREATED:20230814T100953Z
LAST-MODIFIED:20230814T100953Z
UID:10000116-1697560200-1697562000@visitcostadargento.it
SUMMARY:Tutto Giglio On Air
DESCRIPTION:Rappresentazione teatrale di 30 minuti circa sul Giglio\, è richiesto un contributo di 6€ per la partecipazione. \nL’evento si svolgerà presso la torre del Saraceno a Giglio Porto. \nPer prenotazioni chiamare al numero 3209605713 \nlocandina
URL:https://visitcostadargento.it/evento/tutto-giglio-on-air-2/2023-10-17/
LOCATION:Torre del Saraceno\, Via del saraceno\, Giglio Porto\, 58012\, Italia
CATEGORIES:Eventi
ATTACH;FMTTYPE=image/jpeg:https://visitcostadargento.it/wp-content/uploads/2023/08/DSC00426.jpg
ORGANIZER;CN="Proloco%20isola%20del%20Giglio%20e%20Giannutri":MAILTO:info@visitgiglioisland.com
END:VEVENT
BEGIN:VEVENT
DTSTART;TZID=Europe/Helsinki:20231012T163000
DTEND;TZID=Europe/Helsinki:20231012T170000
DTSTAMP:20260420T021640
CREATED:20230814T100953Z
LAST-MODIFIED:20230814T100953Z
UID:10000115-1697128200-1697130000@visitcostadargento.it
SUMMARY:Tutto Giglio On Air
DESCRIPTION:Rappresentazione teatrale di 30 minuti circa sul Giglio\, è richiesto un contributo di 6€ per la partecipazione. \nL’evento si svolgerà presso la torre del Saraceno a Giglio Porto. \nPer prenotazioni chiamare al numero 3209605713 \nlocandina
URL:https://visitcostadargento.it/evento/tutto-giglio-on-air-2/2023-10-12/
LOCATION:Torre del Saraceno\, Via del saraceno\, Giglio Porto\, 58012\, Italia
CATEGORIES:Eventi
ATTACH;FMTTYPE=image/jpeg:https://visitcostadargento.it/wp-content/uploads/2023/08/DSC00426.jpg
ORGANIZER;CN="Proloco%20isola%20del%20Giglio%20e%20Giannutri":MAILTO:info@visitgiglioisland.com
END:VEVENT
BEGIN:VEVENT
DTSTART;TZID=Europe/Helsinki:20231011T163000
DTEND;TZID=Europe/Helsinki:20231011T170000
DTSTAMP:20260420T021640
CREATED:20230814T100953Z
LAST-MODIFIED:20230814T100953Z
UID:10000114-1697041800-1697043600@visitcostadargento.it
SUMMARY:Tutto Giglio On Air
DESCRIPTION:Rappresentazione teatrale di 30 minuti circa sul Giglio\, è richiesto un contributo di 6€ per la partecipazione. \nL’evento si svolgerà presso la torre del Saraceno a Giglio Porto. \nPer prenotazioni chiamare al numero 3209605713 \nlocandina
URL:https://visitcostadargento.it/evento/tutto-giglio-on-air-2/2023-10-11/
LOCATION:Torre del Saraceno\, Via del saraceno\, Giglio Porto\, 58012\, Italia
CATEGORIES:Eventi
ATTACH;FMTTYPE=image/jpeg:https://visitcostadargento.it/wp-content/uploads/2023/08/DSC00426.jpg
ORGANIZER;CN="Proloco%20isola%20del%20Giglio%20e%20Giannutri":MAILTO:info@visitgiglioisland.com
END:VEVENT
BEGIN:VEVENT
DTSTART;TZID=Europe/Helsinki:20231010T163000
DTEND;TZID=Europe/Helsinki:20231010T170000
DTSTAMP:20260420T021640
CREATED:20230814T100953Z
LAST-MODIFIED:20230814T100953Z
UID:10000113-1696955400-1696957200@visitcostadargento.it
SUMMARY:Tutto Giglio On Air
DESCRIPTION:Rappresentazione teatrale di 30 minuti circa sul Giglio\, è richiesto un contributo di 6€ per la partecipazione. \nL’evento si svolgerà presso la torre del Saraceno a Giglio Porto. \nPer prenotazioni chiamare al numero 3209605713 \nlocandina
URL:https://visitcostadargento.it/evento/tutto-giglio-on-air-2/2023-10-10/
LOCATION:Torre del Saraceno\, Via del saraceno\, Giglio Porto\, 58012\, Italia
CATEGORIES:Eventi
ATTACH;FMTTYPE=image/jpeg:https://visitcostadargento.it/wp-content/uploads/2023/08/DSC00426.jpg
ORGANIZER;CN="Proloco%20isola%20del%20Giglio%20e%20Giannutri":MAILTO:info@visitgiglioisland.com
END:VEVENT
BEGIN:VEVENT
DTSTART;TZID=Europe/Helsinki:20231005T163000
DTEND;TZID=Europe/Helsinki:20231005T170000
DTSTAMP:20260420T021640
CREATED:20230814T100953Z
LAST-MODIFIED:20230814T100953Z
UID:10000112-1696523400-1696525200@visitcostadargento.it
SUMMARY:Tutto Giglio On Air
DESCRIPTION:Rappresentazione teatrale di 30 minuti circa sul Giglio\, è richiesto un contributo di 6€ per la partecipazione. \nL’evento si svolgerà presso la torre del Saraceno a Giglio Porto. \nPer prenotazioni chiamare al numero 3209605713 \nlocandina
URL:https://visitcostadargento.it/evento/tutto-giglio-on-air-2/2023-10-05/
LOCATION:Torre del Saraceno\, Via del saraceno\, Giglio Porto\, 58012\, Italia
CATEGORIES:Eventi
ATTACH;FMTTYPE=image/jpeg:https://visitcostadargento.it/wp-content/uploads/2023/08/DSC00426.jpg
ORGANIZER;CN="Proloco%20isola%20del%20Giglio%20e%20Giannutri":MAILTO:info@visitgiglioisland.com
END:VEVENT
BEGIN:VEVENT
DTSTART;TZID=Europe/Helsinki:20231004T163000
DTEND;TZID=Europe/Helsinki:20231004T170000
DTSTAMP:20260420T021640
CREATED:20230814T100953Z
LAST-MODIFIED:20230814T100953Z
UID:10000111-1696437000-1696438800@visitcostadargento.it
SUMMARY:Tutto Giglio On Air
DESCRIPTION:Rappresentazione teatrale di 30 minuti circa sul Giglio\, è richiesto un contributo di 6€ per la partecipazione. \nL’evento si svolgerà presso la torre del Saraceno a Giglio Porto. \nPer prenotazioni chiamare al numero 3209605713 \nlocandina
URL:https://visitcostadargento.it/evento/tutto-giglio-on-air-2/2023-10-04/
LOCATION:Torre del Saraceno\, Via del saraceno\, Giglio Porto\, 58012\, Italia
CATEGORIES:Eventi
ATTACH;FMTTYPE=image/jpeg:https://visitcostadargento.it/wp-content/uploads/2023/08/DSC00426.jpg
ORGANIZER;CN="Proloco%20isola%20del%20Giglio%20e%20Giannutri":MAILTO:info@visitgiglioisland.com
END:VEVENT
BEGIN:VEVENT
DTSTART;TZID=Europe/Helsinki:20231003T163000
DTEND;TZID=Europe/Helsinki:20231003T170000
DTSTAMP:20260420T021640
CREATED:20230814T100953Z
LAST-MODIFIED:20230814T100953Z
UID:10000110-1696350600-1696352400@visitcostadargento.it
SUMMARY:Tutto Giglio On Air
DESCRIPTION:Rappresentazione teatrale di 30 minuti circa sul Giglio\, è richiesto un contributo di 6€ per la partecipazione. \nL’evento si svolgerà presso la torre del Saraceno a Giglio Porto. \nPer prenotazioni chiamare al numero 3209605713 \nlocandina
URL:https://visitcostadargento.it/evento/tutto-giglio-on-air-2/2023-10-03/
LOCATION:Torre del Saraceno\, Via del saraceno\, Giglio Porto\, 58012\, Italia
CATEGORIES:Eventi
ATTACH;FMTTYPE=image/jpeg:https://visitcostadargento.it/wp-content/uploads/2023/08/DSC00426.jpg
ORGANIZER;CN="Proloco%20isola%20del%20Giglio%20e%20Giannutri":MAILTO:info@visitgiglioisland.com
END:VEVENT
BEGIN:VEVENT
DTSTART;TZID=Europe/Helsinki:20230928T163000
DTEND;TZID=Europe/Helsinki:20230928T170000
DTSTAMP:20260420T021640
CREATED:20230814T100953Z
LAST-MODIFIED:20230814T100953Z
UID:10000109-1695918600-1695920400@visitcostadargento.it
SUMMARY:Tutto Giglio On Air
DESCRIPTION:Rappresentazione teatrale di 30 minuti circa sul Giglio\, è richiesto un contributo di 6€ per la partecipazione. \nL’evento si svolgerà presso la torre del Saraceno a Giglio Porto. \nPer prenotazioni chiamare al numero 3209605713 \nlocandina
URL:https://visitcostadargento.it/evento/tutto-giglio-on-air-2/2023-09-28/
LOCATION:Torre del Saraceno\, Via del saraceno\, Giglio Porto\, 58012\, Italia
CATEGORIES:Eventi
ATTACH;FMTTYPE=image/jpeg:https://visitcostadargento.it/wp-content/uploads/2023/08/DSC00426.jpg
ORGANIZER;CN="Proloco%20isola%20del%20Giglio%20e%20Giannutri":MAILTO:info@visitgiglioisland.com
END:VEVENT
BEGIN:VEVENT
DTSTART;VALUE=DATE:20230928
DTEND;VALUE=DATE:20231001
DTSTAMP:20260420T021640
CREATED:20240418T095448Z
LAST-MODIFIED:20240418T095449Z
UID:10000261-1695859200-1696118399@visitcostadargento.it
SUMMARY:Festa dell'Uva e delle Cantine
DESCRIPTION:Ultimo weekend di Settembre a Giglio Castello\nviene organizzato la Festa dell’Uva e delle Cantine evento molto seguito è diventato una sorta di piccola tradizione. In ogni angolo del suggestivo borgo di Giglio Castello si può degustare le eccellenze enogastronomiche dell’isola del Giglio e le serate vengono animate con la musica itinerante.\nProtagonista della festa è indubbiamente il vino Ansonaco. Un vino bianco ambrato\, di elevata gradazione e dal corpo robusto con un sapore asciutto e leggermente asprigno la cui vinificazione viene effettuata in purezza.\nNelle cantine di Giglio Castello\,  è possibile degustare piatti tipici locali seguendo un percorso di gusto e di sapori che accompagnerà i visitatori negli angoli più suggestivi del borgo. In ogni cantina si può degustare piatti diversi che vanno dalla grigliata di carne\, al baccalà con le patate\, al coniglio selvatico e ai formaggi toscani per chiudere con i dolci tradizionali tra i quali spicca il panficato. Le serate vengono animata con la musica itinerante per le strade del borgo. \nA conclusione di ogni serata c’è musica dal vivo in Piazza Gloriosa. \nUFFICIO DEL TURISMO – PRO LOCO ISOLA DEL GIGLIO E GIANNUTRI – INFO POINT \nVia Provinciale\, 9 – Giglio Porto \nDal lunedì alla domenica: 9.00 – 13.00 / 14.00 – 18.00 \nTel. 0564 809400 – info@visitgiglioisland.com
URL:https://visitcostadargento.it/evento/festa-delluva-e-delle-cantine-2/
LOCATION:https://goo.gl/maps/nFoMVBSpvSHN7Uri8\, ISOLA DEL GIGLIO\, Giglio Castello\, GR\, 58012\, Italia
CATEGORIES:Eventi
ATTACH;FMTTYPE=image/jpeg:https://visitcostadargento.it/wp-content/uploads/2023/08/Isola-del-Giglio-282930-Settembre-1-2_page-0001.jpg
ORGANIZER;CN="Proloco%20isola%20del%20Giglio%20e%20Giannutri":MAILTO:info@visitgiglioisland.com
END:VEVENT
BEGIN:VEVENT
DTSTART;TZID=Europe/Helsinki:20230927T163000
DTEND;TZID=Europe/Helsinki:20230927T170000
DTSTAMP:20260420T021640
CREATED:20230814T100953Z
LAST-MODIFIED:20230814T100953Z
UID:10000108-1695832200-1695834000@visitcostadargento.it
SUMMARY:Tutto Giglio On Air
DESCRIPTION:Rappresentazione teatrale di 30 minuti circa sul Giglio\, è richiesto un contributo di 6€ per la partecipazione. \nL’evento si svolgerà presso la torre del Saraceno a Giglio Porto. \nPer prenotazioni chiamare al numero 3209605713 \nlocandina
URL:https://visitcostadargento.it/evento/tutto-giglio-on-air-2/2023-09-27/
LOCATION:Torre del Saraceno\, Via del saraceno\, Giglio Porto\, 58012\, Italia
CATEGORIES:Eventi
ATTACH;FMTTYPE=image/jpeg:https://visitcostadargento.it/wp-content/uploads/2023/08/DSC00426.jpg
ORGANIZER;CN="Proloco%20isola%20del%20Giglio%20e%20Giannutri":MAILTO:info@visitgiglioisland.com
END:VEVENT
BEGIN:VEVENT
DTSTART;TZID=Europe/Helsinki:20230926T163000
DTEND;TZID=Europe/Helsinki:20230926T170000
DTSTAMP:20260420T021640
CREATED:20230814T100953Z
LAST-MODIFIED:20230814T100953Z
UID:10000107-1695745800-1695747600@visitcostadargento.it
SUMMARY:Tutto Giglio On Air
DESCRIPTION:Rappresentazione teatrale di 30 minuti circa sul Giglio\, è richiesto un contributo di 6€ per la partecipazione. \nL’evento si svolgerà presso la torre del Saraceno a Giglio Porto. \nPer prenotazioni chiamare al numero 3209605713 \nlocandina
URL:https://visitcostadargento.it/evento/tutto-giglio-on-air-2/2023-09-26/
LOCATION:Torre del Saraceno\, Via del saraceno\, Giglio Porto\, 58012\, Italia
CATEGORIES:Eventi
ATTACH;FMTTYPE=image/jpeg:https://visitcostadargento.it/wp-content/uploads/2023/08/DSC00426.jpg
ORGANIZER;CN="Proloco%20isola%20del%20Giglio%20e%20Giannutri":MAILTO:info@visitgiglioisland.com
END:VEVENT
BEGIN:VEVENT
DTSTART;TZID=Europe/Helsinki:20230921T163000
DTEND;TZID=Europe/Helsinki:20230921T170000
DTSTAMP:20260420T021640
CREATED:20230814T100953Z
LAST-MODIFIED:20230814T100953Z
UID:10000106-1695313800-1695315600@visitcostadargento.it
SUMMARY:Tutto Giglio On Air
DESCRIPTION:Rappresentazione teatrale di 30 minuti circa sul Giglio\, è richiesto un contributo di 6€ per la partecipazione. \nL’evento si svolgerà presso la torre del Saraceno a Giglio Porto. \nPer prenotazioni chiamare al numero 3209605713 \nlocandina
URL:https://visitcostadargento.it/evento/tutto-giglio-on-air-2/2023-09-21/
LOCATION:Torre del Saraceno\, Via del saraceno\, Giglio Porto\, 58012\, Italia
CATEGORIES:Eventi
ATTACH;FMTTYPE=image/jpeg:https://visitcostadargento.it/wp-content/uploads/2023/08/DSC00426.jpg
ORGANIZER;CN="Proloco%20isola%20del%20Giglio%20e%20Giannutri":MAILTO:info@visitgiglioisland.com
END:VEVENT
END:VCALENDAR