BEGIN:VCALENDAR
VERSION:2.0
PRODID:-//Visit Costa d&#039;Argento - ECPv6.1.3//NONSGML v1.0//EN
CALSCALE:GREGORIAN
METHOD:PUBLISH
X-ORIGINAL-URL:https://visitcostadargento.it
X-WR-CALDESC:Eventi per Visit Costa d&#039;Argento
REFRESH-INTERVAL;VALUE=DURATION:PT1H
X-Robots-Tag:noindex
X-PUBLISHED-TTL:PT1H
BEGIN:VTIMEZONE
TZID:Europe/Helsinki
BEGIN:DAYLIGHT
TZOFFSETFROM:+0200
TZOFFSETTO:+0300
TZNAME:EEST
DTSTART:20250330T010000
END:DAYLIGHT
BEGIN:STANDARD
TZOFFSETFROM:+0300
TZOFFSETTO:+0200
TZNAME:EET
DTSTART:20251026T010000
END:STANDARD
END:VTIMEZONE
BEGIN:VEVENT
DTSTART;TZID=Europe/Helsinki:20250905T080000
DTEND;TZID=Europe/Helsinki:20250905T100000
DTSTAMP:20260419T165048
CREATED:20250619T124944Z
LAST-MODIFIED:20250619T124944Z
UID:10000280-1757059200-1757066400@visitcostadargento.it
SUMMARY:Trekking all'isola del Giglio
DESCRIPTION:Trekking da Giglio Castello a Giglio Campese con bagno finale\nPartenza dallo splendido borgo medievale di Giglio Castello\, dopo una breve visita si esce dalle mura pisane e si imbocca una mulattiera che scende lungo il versante ovest fra piccole vigne terrazzate\, pozzi e corsi d’acqua stagionali importantissimi per l’ecologia dell’isola. Il profumo intenso della macchia mediterranea e il panorama sulla baia del Campese ci accompagneranno in questa bella passeggiata. Al termine\, per chi lo desidera\, bagno nelle acque cristalline della baia. \n\n\nRitrovo: ore 8 Piazza Gloriosa\, Giglio Castello – Durata: 2 ore – Su prenotazione\, € 8 – € 4 ridotto (5-12 anni)\, gratuito 0-4 anni. Bambini piccoli solo trasportati nel marsupio o nell’apposito zaino\n\nPrenotazioni: https://infopark.sl3.eu/book-now/4-giglio/590-trekking-da-giglio-castello-a-giglio-campese-con-bagno-finale/?fbclid=IwY2xjawLAxC1leHRuA2FlbQIxMAABHoEsbOjvWow1tCYNhtMvjjNtDPVLHFUuZKEq9u7gl7_HO_hekNGfHaABjXmm_aem_DFcUz2rn9aIbfgVF5K-xcQ
URL:https://visitcostadargento.it/evento/trekking-allisola-del-giglio-4/
LOCATION:Giglio Castello\, https://g.co/kgs/7Y5oCDP\, 58012\, Italy
CATEGORIES:Eventi
ATTACH;FMTTYPE=image/jpeg:https://visitcostadargento.it/wp-content/uploads/2023/08/trekking.jpg
END:VEVENT
END:VCALENDAR