BEGIN:VCALENDAR
VERSION:2.0
PRODID:-//Visit Costa d&#039;Argento - ECPv6.1.3//NONSGML v1.0//EN
CALSCALE:GREGORIAN
METHOD:PUBLISH
X-WR-CALNAME:Visit Costa d&#039;Argento
X-ORIGINAL-URL:https://visitcostadargento.it
X-WR-CALDESC:Eventi per Visit Costa d&#039;Argento
REFRESH-INTERVAL;VALUE=DURATION:PT1H
X-Robots-Tag:noindex
X-PUBLISHED-TTL:PT1H
BEGIN:VTIMEZONE
TZID:Europe/Helsinki
BEGIN:DAYLIGHT
TZOFFSETFROM:+0200
TZOFFSETTO:+0300
TZNAME:EEST
DTSTART:20240331T010000
END:DAYLIGHT
BEGIN:STANDARD
TZOFFSETFROM:+0300
TZOFFSETTO:+0200
TZNAME:EET
DTSTART:20241027T010000
END:STANDARD
END:VTIMEZONE
BEGIN:VEVENT
DTSTART;TZID=Europe/Helsinki:20240827T163000
DTEND;TZID=Europe/Helsinki:20240827T170000
DTSTAMP:20260420T023605
CREATED:20230814T100953Z
LAST-MODIFIED:20230814T100953Z
UID:10000251-1724776200-1724778000@visitcostadargento.it
SUMMARY:Tutto Giglio On Air
DESCRIPTION:Rappresentazione teatrale di 30 minuti circa sul Giglio\, è richiesto un contributo di 6€ per la partecipazione. \nL’evento si svolgerà presso la torre del Saraceno a Giglio Porto. \nPer prenotazioni chiamare al numero 3209605713 \nlocandina
URL:https://visitcostadargento.it/evento/tutto-giglio-on-air-2/2024-08-27/
LOCATION:Torre del Saraceno\, Via del saraceno\, Giglio Porto\, 58012\, Italia
CATEGORIES:Eventi
ATTACH;FMTTYPE=image/jpeg:https://visitcostadargento.it/wp-content/uploads/2023/08/DSC00426.jpg
ORGANIZER;CN="Proloco%20isola%20del%20Giglio%20e%20Giannutri":MAILTO:info@visitgiglioisland.com
END:VEVENT
BEGIN:VEVENT
DTSTART;TZID=Europe/Helsinki:20240828T163000
DTEND;TZID=Europe/Helsinki:20240828T170000
DTSTAMP:20260420T023605
CREATED:20230814T100953Z
LAST-MODIFIED:20230814T100953Z
UID:10000252-1724862600-1724864400@visitcostadargento.it
SUMMARY:Tutto Giglio On Air
DESCRIPTION:Rappresentazione teatrale di 30 minuti circa sul Giglio\, è richiesto un contributo di 6€ per la partecipazione. \nL’evento si svolgerà presso la torre del Saraceno a Giglio Porto. \nPer prenotazioni chiamare al numero 3209605713 \nlocandina
URL:https://visitcostadargento.it/evento/tutto-giglio-on-air-2/2024-08-28/
LOCATION:Torre del Saraceno\, Via del saraceno\, Giglio Porto\, 58012\, Italia
CATEGORIES:Eventi
ATTACH;FMTTYPE=image/jpeg:https://visitcostadargento.it/wp-content/uploads/2023/08/DSC00426.jpg
ORGANIZER;CN="Proloco%20isola%20del%20Giglio%20e%20Giannutri":MAILTO:info@visitgiglioisland.com
END:VEVENT
BEGIN:VEVENT
DTSTART;TZID=Europe/Helsinki:20240829T163000
DTEND;TZID=Europe/Helsinki:20240829T170000
DTSTAMP:20260420T023605
CREATED:20230814T100953Z
LAST-MODIFIED:20230814T100953Z
UID:10000253-1724949000-1724950800@visitcostadargento.it
SUMMARY:Tutto Giglio On Air
DESCRIPTION:Rappresentazione teatrale di 30 minuti circa sul Giglio\, è richiesto un contributo di 6€ per la partecipazione. \nL’evento si svolgerà presso la torre del Saraceno a Giglio Porto. \nPer prenotazioni chiamare al numero 3209605713 \nlocandina
URL:https://visitcostadargento.it/evento/tutto-giglio-on-air-2/2024-08-29/
LOCATION:Torre del Saraceno\, Via del saraceno\, Giglio Porto\, 58012\, Italia
CATEGORIES:Eventi
ATTACH;FMTTYPE=image/jpeg:https://visitcostadargento.it/wp-content/uploads/2023/08/DSC00426.jpg
ORGANIZER;CN="Proloco%20isola%20del%20Giglio%20e%20Giannutri":MAILTO:info@visitgiglioisland.com
END:VEVENT
END:VCALENDAR